BEGIN:VCALENDAR
PRODID:-//eluceo/ical//2.0/EN
VERSION:2.0
CALSCALE:GREGORIAN
BEGIN:VEVENT
UID:35e65514-8ff8-5afe-8d02-79e572748040
DTSTAMP:20260420T063424Z
SUMMARY:Родился летчик-истребитель Г.Д. Кост
 ылев
DESCRIPTION:https://aviafan.ru/articles/rodilsya-letchik-istrebitel-gd-kost
 ylev
URL:https://aviafan.ru/articles/rodilsya-letchik-istrebitel-gd-kostylev
DTSTART;VALUE=DATE:19130420
RRULE:FREQ=YEARLY
FBTYPE:FREE
END:VEVENT
END:VCALENDAR
