BEGIN:VCALENDAR
PRODID:-//eluceo/ical//2.0/EN
VERSION:2.0
CALSCALE:GREGORIAN
BEGIN:VEVENT
UID:2f5e4649-8d4f-56e9-b499-b703058ccbad
DTSTAMP:20260420T063341Z
SUMMARY:Родился летчик-истребитель А.Ф. Лавр
 енов
DESCRIPTION:https://aviafan.ru/articles/rodilsya-letchik-istrebitel-af-lavr
 enov
URL:https://aviafan.ru/articles/rodilsya-letchik-istrebitel-af-lavrenov
DTSTART;VALUE=DATE:19200420
RRULE:FREQ=YEARLY
FBTYPE:FREE
END:VEVENT
END:VCALENDAR
