BEGIN:VCALENDAR
PRODID:-//eluceo/ical//2.0/EN
VERSION:2.0
CALSCALE:GREGORIAN
BEGIN:VEVENT
UID:739e2f06-29cd-5d65-8f85-18f6ac3ee407
DTSTAMP:20260422T074144Z
SUMMARY:Родился летчик-испытатель И.Ф. Сорок
 ин
DESCRIPTION:https://aviafan.ru/articles/rodilsya-letchik-ispytatel-if-sorok
 in
URL:https://aviafan.ru/articles/rodilsya-letchik-ispytatel-if-sorokin
DTSTART;VALUE=DATE:19190422
RRULE:FREQ=YEARLY
FBTYPE:FREE
END:VEVENT
END:VCALENDAR
