BEGIN:VCALENDAR
PRODID:-//eluceo/ical//2.0/EN
VERSION:2.0
CALSCALE:GREGORIAN
BEGIN:VEVENT
UID:20380291-fe04-56ec-9975-f619adc1b6e8
DTSTAMP:20260419T104333Z
SUMMARY:Родился летчик-ас Зиборов Василий Ми
 хайлович
DESCRIPTION:https://aviafan.ru/articles/rodilsya-letchik-as-ziborov-vasilij
 -mihajlovich
URL:https://aviafan.ru/articles/rodilsya-letchik-as-ziborov-vasilij-mihajlo
 vich
DTSTART;VALUE=DATE:19230419
RRULE:FREQ=YEARLY
FBTYPE:FREE
END:VEVENT
END:VCALENDAR
