BEGIN:VCALENDAR
PRODID:-//eluceo/ical//2.0/EN
VERSION:2.0
CALSCALE:GREGORIAN
BEGIN:VEVENT
UID:0339c676-286e-5b23-98ab-485b92ec3a55
DTSTAMP:20250903T113138Z
SUMMARY:Родился Леонид Попов\, заслуженный ш
 турман-испытатель СССР
DESCRIPTION:https://aviafan.ru/articles/rodilsya-leonid-popov-zasluzhennyj-
 shturman-ispytatel-sssr
URL:https://aviafan.ru/articles/rodilsya-leonid-popov-zasluzhennyj-shturman
 -ispytatel-sssr
DTSTART;VALUE=DATE:19401128
RRULE:FREQ=YEARLY
FBTYPE:FREE
END:VEVENT
END:VCALENDAR
