BEGIN:VCALENDAR
PRODID:-//eluceo/ical//2.0/EN
VERSION:2.0
CALSCALE:GREGORIAN
BEGIN:VEVENT
UID:5d107f15-4719-569f-813a-4eeb1963c40c
DTSTAMP:20260421T085512Z
SUMMARY:Родился космонавт-испытатель А.Н. Ба
 бкин
DESCRIPTION:https://aviafan.ru/articles/rodilsya-kosmonavt-ispytatel-an-bab
 kin
URL:https://aviafan.ru/articles/rodilsya-kosmonavt-ispytatel-an-babkin
DTSTART;VALUE=DATE:19690421
RRULE:FREQ=YEARLY
FBTYPE:FREE
END:VEVENT
END:VCALENDAR
