BEGIN:VCALENDAR
PRODID:-//eluceo/ical//2.0/EN
VERSION:2.0
CALSCALE:GREGORIAN
BEGIN:VEVENT
UID:ccc0489a-3db8-51ba-941e-d5c5528d2603
DTSTAMP:20250905T120720Z
SUMMARY:Родился Геннадий Ковалев\, летчик-ис
 пытатель
DESCRIPTION:https://aviafan.ru/articles/rodilsya-gennadij-kovalev-letchik-i
 spytatel
URL:https://aviafan.ru/articles/rodilsya-gennadij-kovalev-letchik-ispytatel
DTSTART;VALUE=DATE:19361127
RRULE:FREQ=YEARLY
FBTYPE:FREE
END:VEVENT
END:VCALENDAR
