BEGIN:VCALENDAR
PRODID:-//eluceo/ical//2.0/EN
VERSION:2.0
CALSCALE:GREGORIAN
BEGIN:VEVENT
UID:e22f4d70-5423-554a-b689-2f5401193f4e
DTSTAMP:20250902T112329Z
SUMMARY:Родился Эдуард Колков\, заслуженный 
 лётчик-испытатель СССР\, генерал-майор  а
 виации
DESCRIPTION:https://aviafan.ru/articles/rodilsya-eduard-kolkov-zasluzhennyj
 -lyotchik-ispytatel-sssr-general-major-aviacii
URL:https://aviafan.ru/articles/rodilsya-eduard-kolkov-zasluzhennyj-lyotchi
 k-ispytatel-sssr-general-major-aviacii
DTSTART;VALUE=DATE:19321129
RRULE:FREQ=YEARLY
FBTYPE:FREE
END:VEVENT
END:VCALENDAR
