BEGIN:VCALENDAR
PRODID:-//eluceo/ical//2.0/EN
VERSION:2.0
CALSCALE:GREGORIAN
BEGIN:VEVENT
UID:4117663f-c1f2-55f1-a284-7a588fb05c48
DTSTAMP:20250902T113947Z
SUMMARY:Родился Эдуард Княгиничев\, заслужен
 ный лётчик-испытатель СССР
DESCRIPTION:https://aviafan.ru/articles/rodilsya-eduard-knyaginichev-zasluz
 hennyj-lyotchik-ispytatel-sssr
URL:https://aviafan.ru/articles/rodilsya-eduard-knyaginichev-zasluzhennyj-l
 yotchik-ispytatel-sssr
DTSTART;VALUE=DATE:19291129
RRULE:FREQ=YEARLY
FBTYPE:FREE
END:VEVENT
END:VCALENDAR
