BEGIN:VCALENDAR
PRODID:-//eluceo/ical//2.0/EN
VERSION:2.0
CALSCALE:GREGORIAN
BEGIN:VEVENT
UID:ec241d7b-ff19-5809-ad3b-9b91f5362814
DTSTAMP:20260423T095937Z
SUMMARY:Родился авиаконструктор И.А. Эрлих
DESCRIPTION:https://aviafan.ru/articles/rodilsya-aviakonstruktor-ia-erlih
URL:https://aviafan.ru/articles/rodilsya-aviakonstruktor-ia-erlih
DTSTART;VALUE=DATE:19220423
RRULE:FREQ=YEARLY
FBTYPE:FREE
END:VEVENT
END:VCALENDAR
