BEGIN:VCALENDAR
PRODID:-//eluceo/ical//2.0/EN
VERSION:2.0
CALSCALE:GREGORIAN
BEGIN:VEVENT
UID:cdfeecab-82f6-5097-90e2-de987be7e552
DTSTAMP:20250829T100945Z
SUMMARY:Родился астронавт Кеннет Камерон
DESCRIPTION:https://aviafan.ru/articles/rodilsya-astronavt-kennet-kameron
URL:https://aviafan.ru/articles/rodilsya-astronavt-kennet-kameron
DTSTART;VALUE=DATE:19491129
RRULE:FREQ=YEARLY
FBTYPE:FREE
END:VEVENT
END:VCALENDAR
