BEGIN:VCALENDAR
PRODID:-//eluceo/ical//2.0/EN
VERSION:2.0
CALSCALE:GREGORIAN
BEGIN:VEVENT
UID:94e98bc4-89c7-555f-8884-b3dbb20f9218
DTSTAMP:20260420T063254Z
SUMMARY:Родился астронавт Доналд Рой Петтит
DESCRIPTION:https://aviafan.ru/articles/rodilsya-astronavt-donald-roj-petti
 t
URL:https://aviafan.ru/articles/rodilsya-astronavt-donald-roj-pettit
DTSTART;VALUE=DATE:19550420
RRULE:FREQ=YEARLY
FBTYPE:FREE
END:VEVENT
END:VCALENDAR
