BEGIN:VCALENDAR
PRODID:-//eluceo/ical//2.0/EN
VERSION:2.0
CALSCALE:GREGORIAN
BEGIN:VEVENT
UID:95292ed7-c538-5744-a80d-47e5ac84ee74
DTSTAMP:20250904T103621Z
SUMMARY:Родился Аркадий Татаринов\, военный 
 штурман
DESCRIPTION:https://aviafan.ru/articles/rodilsya-arkadij-tatarinov-voennyj-
 shturman
URL:https://aviafan.ru/articles/rodilsya-arkadij-tatarinov-voennyj-shturman
DTSTART;VALUE=DATE:19271128
RRULE:FREQ=YEARLY
FBTYPE:FREE
END:VEVENT
END:VCALENDAR
