BEGIN:VCALENDAR
PRODID:-//eluceo/ical//2.0/EN
VERSION:2.0
CALSCALE:GREGORIAN
BEGIN:VEVENT
UID:eac5ff09-5171-579d-ac64-1962a67a1fd7
DTSTAMP:20250904T111358Z
SUMMARY:Родился Алексей Завитаев\, организат
 ор авиапромышленности
DESCRIPTION:https://aviafan.ru/articles/rodilsya-aleksej-zavitaev-organizat
 or-aviapromyshlennosti
URL:https://aviafan.ru/articles/rodilsya-aleksej-zavitaev-organizator-aviap
 romyshlennosti
DTSTART;VALUE=DATE:19001128
RRULE:FREQ=YEARLY
FBTYPE:FREE
END:VEVENT
END:VCALENDAR
