BEGIN:VCALENDAR
PRODID:-//eluceo/ical//2.0/EN
VERSION:2.0
CALSCALE:GREGORIAN
BEGIN:VEVENT
UID:57639667-24bf-5670-ad8c-89f2e5a8c407
DTSTAMP:20250902T114807Z
SUMMARY:Родился Александр Сморчков\, лётчик-
 истребитель
DESCRIPTION:https://aviafan.ru/articles/rodilsya-aleksandr-smorchkov-lyotch
 ik-istrebitel
URL:https://aviafan.ru/articles/rodilsya-aleksandr-smorchkov-lyotchik-istre
 bitel
DTSTART;VALUE=DATE:19191129
RRULE:FREQ=YEARLY
FBTYPE:FREE
END:VEVENT
END:VCALENDAR
