BEGIN:VCALENDAR
PRODID:-//eluceo/ical//2.0/EN
VERSION:2.0
CALSCALE:GREGORIAN
BEGIN:VEVENT
UID:fe4b938c-571f-533a-95f7-0141c7aa8fbf
DTSTAMP:20250904T194238Z
SUMMARY:Родился Александр Лузянин\, генераль
 ный директор Нижегородского ОАО "Гидром
 аш" с 2008 г.
DESCRIPTION:https://aviafan.ru/articles/rodilsya-aleksandr-luzyanin-general
 nyj-direktor-nizhegorodskogo-oao-gidromash-s-2008-g
URL:https://aviafan.ru/articles/rodilsya-aleksandr-luzyanin-generalnyj-dire
 ktor-nizhegorodskogo-oao-gidromash-s-2008-g
DTSTART;VALUE=DATE:19591127
RRULE:FREQ=YEARLY
FBTYPE:FREE
END:VEVENT
END:VCALENDAR
