BEGIN:VCALENDAR
PRODID:-//eluceo/ical//2.0/EN
VERSION:2.0
CALSCALE:GREGORIAN
BEGIN:VEVENT
UID:9d5d0d1f-db73-5206-8145-08a3ddd054b3
DTSTAMP:20250715T143948Z
SUMMARY:Родился Александр Белогуров\, воздуш
 ный стрелок-радист
DESCRIPTION:https://aviafan.ru/articles/rodilsya-aleksandr-belogurov-vozdus
 hnyj-strelok-radist
URL:https://aviafan.ru/articles/rodilsya-aleksandr-belogurov-vozdushnyj-str
 elok-radist
DTSTART;VALUE=DATE:19141203
RRULE:FREQ=YEARLY
FBTYPE:FREE
END:VEVENT
END:VCALENDAR
