BEGIN:VCALENDAR
PRODID:-//eluceo/ical//2.0/EN
VERSION:2.0
CALSCALE:GREGORIAN
BEGIN:VEVENT
UID:f46fe075-50ed-5093-b89c-d280592972af
DTSTAMP:20250904T111857Z
SUMMARY:Родился Александр Анисимов\, летчик-
 испытатель
DESCRIPTION:https://aviafan.ru/articles/rodilsya-aleksandr-anisimov-letchik
 -ispytatel
URL:https://aviafan.ru/articles/rodilsya-aleksandr-anisimov-letchik-ispytat
 el
DTSTART;VALUE=DATE:18971128
RRULE:FREQ=YEARLY
FBTYPE:FREE
END:VEVENT
END:VCALENDAR
