BEGIN:VCALENDAR
PRODID:-//eluceo/ical//2.0/EN
VERSION:2.0
CALSCALE:GREGORIAN
BEGIN:VEVENT
UID:a4e797de-adfb-5268-aef7-ac7248143577
DTSTAMP:20250904T191520Z
SUMMARY:Решением ВПК N275 самолет ДРЛО Ту-126 бы
 л запущен в серийное производство на зав
 оде N18 в Куйбышеве
DESCRIPTION:https://aviafan.ru/articles/resheniem-vpk-n275-samolet-drlo-tu-
 126-byl-zapushen-v-serijnoe-proizvodstvo-na-zavode-n18-v-kujbysheve
URL:https://aviafan.ru/articles/resheniem-vpk-n275-samolet-drlo-tu-126-byl-
 zapushen-v-serijnoe-proizvodstvo-na-zavode-n18-v-kujbysheve
DTSTART;VALUE=DATE:19631127
RRULE:FREQ=YEARLY
FBTYPE:FREE
END:VEVENT
END:VCALENDAR
