BEGIN:VCALENDAR
PRODID:-//eluceo/ical//2.0/EN
VERSION:2.0
CALSCALE:GREGORIAN
BEGIN:VEVENT
UID:ba0cd64f-f34e-59c4-a14f-32244be39111
DTSTAMP:20250627T104523Z
SUMMARY:Приказ Роскосмоса о создании единог
 о состава космонавтов
DESCRIPTION:https://aviafan.ru/articles/prikaz-roskosmosa-o-sozdanii-edinog
 o-sostava-kosmonavtov
URL:https://aviafan.ru/articles/prikaz-roskosmosa-o-sozdanii-edinogo-sostav
 a-kosmonavtov
DTSTART;VALUE=DATE:20101207
RRULE:FREQ=YEARLY
FBTYPE:FREE
END:VEVENT
END:VCALENDAR
