BEGIN:VCALENDAR
PRODID:-//eluceo/ical//2.0/EN
VERSION:2.0
CALSCALE:GREGORIAN
BEGIN:VEVENT
UID:8d468ab2-815b-5843-a5ed-80116eba52d4
DTSTAMP:20250902T184339Z
SUMMARY:Первый в России дальний междугородн
 ый перелет Елисаветполь - Тифлис в 204 км
DESCRIPTION:https://aviafan.ru/articles/pervyj-v-rossii-dalnij-mezhdugorodn
 yj-perelet-elisavetpol-tiflis-v-204-km
URL:https://aviafan.ru/articles/pervyj-v-rossii-dalnij-mezhdugorodnyj-perel
 et-elisavetpol-tiflis-v-204-km
DTSTART;VALUE=DATE:19101129
RRULE:FREQ=YEARLY
FBTYPE:FREE
END:VEVENT
END:VCALENDAR
