BEGIN:VCALENDAR
PRODID:-//eluceo/ical//2.0/EN
VERSION:2.0
CALSCALE:GREGORIAN
BEGIN:VEVENT
UID:e4a197ba-6fe8-5e59-babe-46132c70750f
DTSTAMP:20250711T113921Z
SUMMARY:Первый полёт лёгкого многоцелевого 
 самолёта Вячеслава Кондратьева "Рысачок
 " с 2 двигателями General Electric Н80
DESCRIPTION:https://aviafan.ru/articles/pervyj-polyot-lyogkogo-mnogocelevog
 o-samolyota-vyacheslava-kondrateva-rysachok-s-2-dvigatelyami-general-elect
 ric-n80
URL:https://aviafan.ru/articles/pervyj-polyot-lyogkogo-mnogocelevogo-samoly
 ota-vyacheslava-kondrateva-rysachok-s-2-dvigatelyami-general-electric-n80
DTSTART;VALUE=DATE:20101203
RRULE:FREQ=YEARLY
FBTYPE:FREE
END:VEVENT
END:VCALENDAR
