BEGIN:VCALENDAR
PRODID:-//eluceo/ical//2.0/EN
VERSION:2.0
CALSCALE:GREGORIAN
BEGIN:VEVENT
UID:1f4de6c7-1332-5fc6-b19f-6e76147e5104
DTSTAMP:20250904T112246Z
SUMMARY:Первый полет вертолетов Eurocopter EC725
DESCRIPTION:https://aviafan.ru/articles/pervyj-polet-vertoletov-eurocopter-
 ec725
URL:https://aviafan.ru/articles/pervyj-polet-vertoletov-eurocopter-ec725
DTSTART;VALUE=DATE:20001127
RRULE:FREQ=YEARLY
FBTYPE:FREE
END:VEVENT
END:VCALENDAR
