BEGIN:VCALENDAR
PRODID:-//eluceo/ical//2.0/EN
VERSION:2.0
CALSCALE:GREGORIAN
BEGIN:VEVENT
UID:84edf663-7c6e-55a7-a87f-98a0d8b2278e
DTSTAMP:20260419T104930Z
SUMMARY:Первый полет UTVA-56
DESCRIPTION:https://aviafan.ru/articles/pervyj-polet-utva-56
URL:https://aviafan.ru/articles/pervyj-polet-utva-56
DTSTART;VALUE=DATE:19590422
RRULE:FREQ=YEARLY
FBTYPE:FREE
END:VEVENT
END:VCALENDAR
