BEGIN:VCALENDAR
PRODID:-//eluceo/ical//2.0/EN
VERSION:2.0
CALSCALE:GREGORIAN
BEGIN:VEVENT
UID:98c9c680-c306-5508-b57c-e38378e8d1bc
DTSTAMP:20260419T102416Z
SUMMARY:Первый полет Short S.3 Springbok I
DESCRIPTION:https://aviafan.ru/articles/pervyj-polet-short-s3-springbok-i
URL:https://aviafan.ru/articles/pervyj-polet-short-s3-springbok-i
DTSTART;VALUE=DATE:19230419
RRULE:FREQ=YEARLY
FBTYPE:FREE
END:VEVENT
END:VCALENDAR
