BEGIN:VCALENDAR
PRODID:-//eluceo/ical//2.0/EN
VERSION:2.0
CALSCALE:GREGORIAN
BEGIN:VEVENT
UID:06c7c3ac-7e11-5430-90e4-b2305349cec3
DTSTAMP:20260419T101418Z
SUMMARY:Первый полет серийного Breguet 941S
DESCRIPTION:https://aviafan.ru/articles/pervyj-polet-serijnogo-breguet-941s
URL:https://aviafan.ru/articles/pervyj-polet-serijnogo-breguet-941s
DTSTART;VALUE=DATE:19670419
RRULE:FREQ=YEARLY
FBTYPE:FREE
END:VEVENT
END:VCALENDAR
