BEGIN:VCALENDAR
PRODID:-//eluceo/ical//2.0/EN
VERSION:2.0
CALSCALE:GREGORIAN
BEGIN:VEVENT
UID:e120a5c0-7a95-5101-9c74-4d0c29222a5a
DTSTAMP:20250904T185758Z
SUMMARY:Первый полет прототипа лёгкого тран
 спортного самолёта IAI Arava
DESCRIPTION:https://aviafan.ru/articles/pervyj-polet-prototipa-lyogkogo-tra
 nsportnogo-samolyota-iai-arava
URL:https://aviafan.ru/articles/pervyj-polet-prototipa-lyogkogo-transportno
 go-samolyota-iai-arava
DTSTART;VALUE=DATE:19691127
RRULE:FREQ=YEARLY
FBTYPE:FREE
END:VEVENT
END:VCALENDAR
