BEGIN:VCALENDAR
PRODID:-//eluceo/ical//2.0/EN
VERSION:2.0
CALSCALE:GREGORIAN
BEGIN:VEVENT
UID:5ad8fe91-9742-5ab0-827c-ee19824b1b4c
DTSTAMP:20260421T085435Z
SUMMARY:Первый полет президентского самолет
 а Ил-96-300ПУ для В.В. Путина
DESCRIPTION:https://aviafan.ru/articles/pervyj-polet-prezidentskogo-samolet
 a-il-96-300pu-dlya-vv-putina
URL:https://aviafan.ru/articles/pervyj-polet-prezidentskogo-samoleta-il-96-
 300pu-dlya-vv-putina
DTSTART;VALUE=DATE:20030421
RRULE:FREQ=YEARLY
FBTYPE:FREE
END:VEVENT
END:VCALENDAR
