BEGIN:VCALENDAR
PRODID:-//eluceo/ical//2.0/EN
VERSION:2.0
CALSCALE:GREGORIAN
BEGIN:VEVENT
UID:9115169f-5107-5c8b-a16f-3f68a686f406
DTSTAMP:20250905T062507Z
SUMMARY:Первый полет пассажирского самолета
  Ту-70\, созданного на базе бомбардировщик
 а Ту-4
DESCRIPTION:https://aviafan.ru/articles/pervyj-polet-passazhirskogo-samolet
 a-tu-70-sozdannogo-na-baze-bombardirovshika-tu-4
URL:https://aviafan.ru/articles/pervyj-polet-passazhirskogo-samoleta-tu-70-
 sozdannogo-na-baze-bombardirovshika-tu-4
DTSTART;VALUE=DATE:19461127
RRULE:FREQ=YEARLY
FBTYPE:FREE
END:VEVENT
END:VCALENDAR
