BEGIN:VCALENDAR
PRODID:-//eluceo/ical//2.0/EN
VERSION:2.0
CALSCALE:GREGORIAN
BEGIN:VEVENT
UID:a729902e-ff03-593a-aa40-6dd7a79dea34
DTSTAMP:20250902T194914Z
SUMMARY:Первый полет опытного вертолета Ми-38
 Т для Министерства обороны России
DESCRIPTION:https://aviafan.ru/articles/pervyj-polet-opytnogo-vertoleta-mi-
 38t-dlya-ministerstva-oborony-rossii
URL:https://aviafan.ru/articles/pervyj-polet-opytnogo-vertoleta-mi-38t-dlya
 -ministerstva-oborony-rossii
DTSTART;VALUE=DATE:20181128
RRULE:FREQ=YEARLY
FBTYPE:FREE
END:VEVENT
END:VCALENDAR
