BEGIN:VCALENDAR
PRODID:-//eluceo/ical//2.0/EN
VERSION:2.0
CALSCALE:GREGORIAN
BEGIN:VEVENT
UID:87c80fb3-5bd4-58ad-9fd7-498b63d72520
DTSTAMP:20250902T104105Z
SUMMARY:Первый полет на самолете Су-2 с М-81
DESCRIPTION:https://aviafan.ru/articles/pervyj-polet-na-samolete-su-2-s-m-8
 1
URL:https://aviafan.ru/articles/pervyj-polet-na-samolete-su-2-s-m-81
DTSTART;VALUE=DATE:19401129
RRULE:FREQ=YEARLY
FBTYPE:FREE
END:VEVENT
END:VCALENDAR
