BEGIN:VCALENDAR
PRODID:-//eluceo/ical//2.0/EN
VERSION:2.0
CALSCALE:GREGORIAN
BEGIN:VEVENT
UID:99a222f2-32db-51b3-8089-811919186b13
DTSTAMP:20260419T104806Z
SUMMARY:Первый полет Mitsubishi X-2 Shinshin
DESCRIPTION:https://aviafan.ru/articles/pervyj-polet-mitsubishi-x-2-shinshi
 n
URL:https://aviafan.ru/articles/pervyj-polet-mitsubishi-x-2-shinshin
DTSTART;VALUE=DATE:20160422
RRULE:FREQ=YEARLY
FBTYPE:FREE
END:VEVENT
END:VCALENDAR
