BEGIN:VCALENDAR
PRODID:-//eluceo/ical//2.0/EN
VERSION:2.0
CALSCALE:GREGORIAN
BEGIN:VEVENT
UID:6c4ab96a-05c7-5167-816b-2658422be18f
DTSTAMP:20250904T113139Z
SUMMARY:Первый полет МиГ-29СМТ летчиком-испыт
 ателем АНПК "МИГ" Маратом Алыковым
DESCRIPTION:https://aviafan.ru/articles/pervyj-polet-mig-29smt-letchikom-is
 pytatelem-anpk-mig-maratom-alykovym
URL:https://aviafan.ru/articles/pervyj-polet-mig-29smt-letchikom-ispytatele
 m-anpk-mig-maratom-alykovym
DTSTART;VALUE=DATE:19971127
RRULE:FREQ=YEARLY
FBTYPE:FREE
END:VEVENT
END:VCALENDAR
