BEGIN:VCALENDAR
PRODID:-//eluceo/ical//2.0/EN
VERSION:2.0
CALSCALE:GREGORIAN
BEGIN:VEVENT
UID:7c984dcb-d746-599c-ad85-0568427e0819
DTSTAMP:20260419T102214Z
SUMMARY:Первый полет Macchi C.205 Veltro
DESCRIPTION:https://aviafan.ru/articles/pervyj-polet-macchi-c205-veltro
URL:https://aviafan.ru/articles/pervyj-polet-macchi-c205-veltro
DTSTART;VALUE=DATE:19420419
RRULE:FREQ=YEARLY
FBTYPE:FREE
END:VEVENT
END:VCALENDAR
