BEGIN:VCALENDAR
PRODID:-//eluceo/ical//2.0/EN
VERSION:2.0
CALSCALE:GREGORIAN
BEGIN:VEVENT
UID:04ffa41c-ead6-5dc7-9135-372807a06710
DTSTAMP:20260419T101321Z
SUMMARY:Первый полет Learjet 55
DESCRIPTION:https://aviafan.ru/articles/pervyj-polet-learjet-55
URL:https://aviafan.ru/articles/pervyj-polet-learjet-55
DTSTART;VALUE=DATE:19790419
RRULE:FREQ=YEARLY
FBTYPE:FREE
END:VEVENT
END:VCALENDAR
