BEGIN:VCALENDAR
PRODID:-//eluceo/ical//2.0/EN
VERSION:2.0
CALSCALE:GREGORIAN
BEGIN:VEVENT
UID:4027e4d0-567b-5f65-96c8-1508facaa8a9
DTSTAMP:20260419T105136Z
SUMMARY:Первый полет Ла-168
DESCRIPTION:https://aviafan.ru/articles/pervyj-polet-la-168
URL:https://aviafan.ru/articles/pervyj-polet-la-168
DTSTART;VALUE=DATE:19480422
RRULE:FREQ=YEARLY
FBTYPE:FREE
END:VEVENT
END:VCALENDAR
