BEGIN:VCALENDAR
PRODID:-//eluceo/ical//2.0/EN
VERSION:2.0
CALSCALE:GREGORIAN
BEGIN:VEVENT
UID:f54467c6-acde-584f-99e1-cc83fa15a117
DTSTAMP:20250904T195522Z
SUMMARY:Первый полет истребителя North American FJ-1 
 Fury
DESCRIPTION:https://aviafan.ru/articles/pervyj-polet-istrebitelya-north-ame
 rican-fj-1-fury
URL:https://aviafan.ru/articles/pervyj-polet-istrebitelya-north-american-fj
 -1-fury
DTSTART;VALUE=DATE:19461127
RRULE:FREQ=YEARLY
FBTYPE:FREE
END:VEVENT
END:VCALENDAR
