BEGIN:VCALENDAR
PRODID:-//eluceo/ical//2.0/EN
VERSION:2.0
CALSCALE:GREGORIAN
BEGIN:VEVENT
UID:2ad8925e-0dd0-558a-8d28-0fa20e5ea00b
DTSTAMP:20250904T194843Z
SUMMARY:Первый полет истребителя Grumman F9F Panther
DESCRIPTION:https://aviafan.ru/articles/pervyj-polet-istrebitelya-grumman-f
 9f-panther
URL:https://aviafan.ru/articles/pervyj-polet-istrebitelya-grumman-f9f-panth
 er
DTSTART;VALUE=DATE:19471127
RRULE:FREQ=YEARLY
FBTYPE:FREE
END:VEVENT
END:VCALENDAR
