BEGIN:VCALENDAR
PRODID:-//eluceo/ical//2.0/EN
VERSION:2.0
CALSCALE:GREGORIAN
BEGIN:VEVENT
UID:afdef622-b5fd-5f08-85ad-b849975705f0
DTSTAMP:20250904T103720Z
SUMMARY:Первый полет истребителя Fairey Flycatcher
DESCRIPTION:https://aviafan.ru/articles/pervyj-polet-istrebitelya-fairey-fl
 ycatcher
URL:https://aviafan.ru/articles/pervyj-polet-istrebitelya-fairey-flycatcher
DTSTART;VALUE=DATE:19221128
RRULE:FREQ=YEARLY
FBTYPE:FREE
END:VEVENT
END:VCALENDAR
