BEGIN:VCALENDAR
PRODID:-//eluceo/ical//2.0/EN
VERSION:2.0
CALSCALE:GREGORIAN
BEGIN:VEVENT
UID:e8a912e4-a549-5a6a-a892-3b888705098b
DTSTAMP:20250905T114558Z
SUMMARY:Первый полет истребителя Boeing XF8B
DESCRIPTION:https://aviafan.ru/articles/pervyj-polet-istrebitelya-boeing-xf
 8b
URL:https://aviafan.ru/articles/pervyj-polet-istrebitelya-boeing-xf8b
DTSTART;VALUE=DATE:19441127
RRULE:FREQ=YEARLY
FBTYPE:FREE
END:VEVENT
END:VCALENDAR
