BEGIN:VCALENDAR
PRODID:-//eluceo/ical//2.0/EN
VERSION:2.0
CALSCALE:GREGORIAN
BEGIN:VEVENT
UID:f764363a-dd5e-5530-b2b5-ca3352260c24
DTSTAMP:20260422T074032Z
SUMMARY:Первый полет Икарус ИК-2
DESCRIPTION:https://aviafan.ru/articles/pervyj-polet-ikarus-ik-2
URL:https://aviafan.ru/articles/pervyj-polet-ikarus-ik-2
DTSTART;VALUE=DATE:19350422
RRULE:FREQ=YEARLY
FBTYPE:FREE
END:VEVENT
END:VCALENDAR
