BEGIN:VCALENDAR
PRODID:-//eluceo/ical//2.0/EN
VERSION:2.0
CALSCALE:GREGORIAN
BEGIN:VEVENT
UID:049ead9a-0abc-5dc1-b24a-93bbf8818093
DTSTAMP:20260419T101533Z
SUMMARY:Первый полет Grumman A-6 Intruder
DESCRIPTION:https://aviafan.ru/articles/pervyj-polet-grumman-a-6-intruder
URL:https://aviafan.ru/articles/pervyj-polet-grumman-a-6-intruder
DTSTART;VALUE=DATE:19600419
RRULE:FREQ=YEARLY
FBTYPE:FREE
END:VEVENT
END:VCALENDAR
