BEGIN:VCALENDAR
PRODID:-//eluceo/ical//2.0/EN
VERSION:2.0
CALSCALE:GREGORIAN
BEGIN:VEVENT
UID:7086ccee-1df7-5fc5-9d94-921388ea4c96
DTSTAMP:20260423T095533Z
SUMMARY:Первый полет FMA IA 50 Guaraní II
DESCRIPTION:https://aviafan.ru/articles/pervyj-polet-fma-ia-50-guarani-ii
URL:https://aviafan.ru/articles/pervyj-polet-fma-ia-50-guarani-ii
DTSTART;VALUE=DATE:19630423
RRULE:FREQ=YEARLY
FBTYPE:FREE
END:VEVENT
END:VCALENDAR
