BEGIN:VCALENDAR
PRODID:-//eluceo/ical//2.0/EN
VERSION:2.0
CALSCALE:GREGORIAN
BEGIN:VEVENT
UID:9b18e254-6b58-59c7-90cd-5837fa8c67a3
DTSTAMP:20260421T085552Z
SUMMARY:Первый полет Douglas F5D Skylancer
DESCRIPTION:https://aviafan.ru/articles/pervyj-polet-douglas-f5d-skylancer
URL:https://aviafan.ru/articles/pervyj-polet-douglas-f5d-skylancer
DTSTART;VALUE=DATE:19560421
RRULE:FREQ=YEARLY
FBTYPE:FREE
END:VEVENT
END:VCALENDAR
