BEGIN:VCALENDAR
PRODID:-//eluceo/ical//2.0/EN
VERSION:2.0
CALSCALE:GREGORIAN
BEGIN:VEVENT
UID:83be67f3-522f-5c53-a813-06ce1dd4c9f8
DTSTAMP:20260423T095702Z
SUMMARY:Первый полет Douglas C-133 Cargomaster
DESCRIPTION:https://aviafan.ru/articles/pervyj-polet-douglas-c-133-cargomas
 ter
URL:https://aviafan.ru/articles/pervyj-polet-douglas-c-133-cargomaster
DTSTART;VALUE=DATE:19560423
RRULE:FREQ=YEARLY
FBTYPE:FREE
END:VEVENT
END:VCALENDAR
