BEGIN:VCALENDAR
PRODID:-//eluceo/ical//2.0/EN
VERSION:2.0
CALSCALE:GREGORIAN
BEGIN:VEVENT
UID:b4b08a7e-4fa1-5079-874d-3a63ae19c7eb
DTSTAMP:20260419T102339Z
SUMMARY:Первый полет Dewoitine D.535
DESCRIPTION:https://aviafan.ru/articles/pervyj-polet-dewoitine-d535
URL:https://aviafan.ru/articles/pervyj-polet-dewoitine-d535
DTSTART;VALUE=DATE:19320419
RRULE:FREQ=YEARLY
FBTYPE:FREE
END:VEVENT
END:VCALENDAR
