BEGIN:VCALENDAR
PRODID:-//eluceo/ical//2.0/EN
VERSION:2.0
CALSCALE:GREGORIAN
BEGIN:VEVENT
UID:7d7f5f8f-755e-509e-9968-fb5ee8c14f89
DTSTAMP:20260419T102135Z
SUMMARY:Первый полет de Havilland Sea Venom
DESCRIPTION:https://aviafan.ru/articles/pervyj-polet-de-havilland-sea-venom
URL:https://aviafan.ru/articles/pervyj-polet-de-havilland-sea-venom
DTSTART;VALUE=DATE:19510419
RRULE:FREQ=YEARLY
FBTYPE:FREE
END:VEVENT
END:VCALENDAR
