BEGIN:VCALENDAR
PRODID:-//eluceo/ical//2.0/EN
VERSION:2.0
CALSCALE:GREGORIAN
BEGIN:VEVENT
UID:f651690b-4d14-51b7-8440-be0cb7c51a04
DTSTAMP:20260423T095410Z
SUMMARY:Первый полет Cessna Model 510 Citation Mustang
DESCRIPTION:https://aviafan.ru/articles/pervyj-polet-cessna-model-510-citat
 ion-mustang
URL:https://aviafan.ru/articles/pervyj-polet-cessna-model-510-citation-must
 ang
DTSTART;VALUE=DATE:20050423
RRULE:FREQ=YEARLY
FBTYPE:FREE
END:VEVENT
END:VCALENDAR
