BEGIN:VCALENDAR
PRODID:-//eluceo/ical//2.0/EN
VERSION:2.0
CALSCALE:GREGORIAN
BEGIN:VEVENT
UID:d89ef641-a368-5f10-ad45-a6f189d57230
DTSTAMP:20250902T104314Z
SUMMARY:Первый полет бомбардировщика Junkers Ju 2
 88
DESCRIPTION:https://aviafan.ru/articles/pervyj-polet-bombardirovshika-junke
 rs-ju-288
URL:https://aviafan.ru/articles/pervyj-polet-bombardirovshika-junkers-ju-28
 8
DTSTART;VALUE=DATE:19401129
RRULE:FREQ=YEARLY
FBTYPE:FREE
END:VEVENT
END:VCALENDAR
