BEGIN:VCALENDAR
PRODID:-//eluceo/ical//2.0/EN
VERSION:2.0
CALSCALE:GREGORIAN
BEGIN:VEVENT
UID:3bdc8243-fa1e-5665-a112-7f6bf699b270
DTSTAMP:20260419T102255Z
SUMMARY:Первый полет Bloch MB.700
DESCRIPTION:https://aviafan.ru/articles/pervyj-polet-bloch-mb700
URL:https://aviafan.ru/articles/pervyj-polet-bloch-mb700
DTSTART;VALUE=DATE:19400419
RRULE:FREQ=YEARLY
FBTYPE:FREE
END:VEVENT
END:VCALENDAR
